{"text_format":"1","workbook":"xlsx","n_sheets":5,"sheets":["Laskupohja vaaka","Esimerkki","Laskupohja pysty","Tuoteluettelo","Ohje"],"not_rendered":{"charts":0,"images":5,"macros":1,"external_links":0,"defined_names":9,"comments":3,"pivot_tables":0},"unopened":[],"bounds":{"document_bytes":16777216,"sheet_cells":100000,"rows_first":2000,"rows_last":500,"rows_between":2000,"halvings":0,"cell_chars":16384,"cell_head_chars":4096},"cells_cut":0,"cells_raw":0,"read":"whole","date_system":"1900"}

{"sheet":"Laskupohja vaaka","index":0,"n_rows":31,"n_cols":32,"rows_kept":31,"cut":false,"hidden":false,"merged":[[2,3,2,9],[5,4,5,9],[6,4,6,9],[22,4,22,8],[23,4,23,8],[7,3,7,9],[8,3,8,9],[9,4,9,9],[30,3,30,10],[3,3,3,9],[8,13,8,14],[20,4,20,8],[21,4,21,8],[13,4,13,8],[14,4,14,8],[15,4,15,8],[16,4,16,8],[17,4,17,8],[18,4,18,8],[19,4,19,8],[4,4,4,9],[24,4,24,8],[25,4,25,8],[5,13,5,14],[2,10,2,12],[3,10,3,12],[4,10,4,12],[4,13,4,14],[2,13,2,14],[3,13,3,14],[5,10,5,12],[8,10,8,12],[9,10,9,12],[9,13,9,14],[7,13,7,14],[7,11,7,12],[6,11,6,12],[10,13,10,14],[28,4,28,5],[28,6,28,10],[27,3,27,9],[26,11,26,13],[27,11,27,13],[28,11,28,13],[11,10,11,12],[11,3,11,9],[10,10,10,12],[10,3,10,9]]}
[null,null,null,"Myyjä",null,null,null,null,null,null,"LASKU "]
[]
[null,null,null,"NIMI",null,null,null,null,null,null,"Päivämäärä",null,null,"Laskun numero"]
[null,null,null,"KATUOSOITE",null,null,null,null,null,null,"00.00.0000",null,null,0]
[null,null,null,"POSTINRO ","POSTITOIMIPAIKKA",null,null,null,null,null,"Viitenumero",null,null,"Asiakasnumero"]
[null,null,null,"PUHELINNUMERO","SÄHKÖPOSTI",null,null,null,null,null,"00000 00000 00000",null,null,0]
[null,null,null,"Y-tunnus",null,null,null,null,null,null,"Viivästyskorko",0,null,"Huomautusaika"]
[null,null,null,"Ostaja",null,null,null,null,null,null,"Maksuehdot","vrk",null,"Eräpäivä"]
[null,null,null,"KATUOSOITE",null,null,null,null,null,null,"Toimituspäivä",null,null,"00.00.0000"]
[null,null,null,"POSTINRO","POSTITOIMIPAIKKA",null,null,null,null,null,"00.00.0000",null,null,"Tilausnumero"]
[null,null,null,"SÄHKÖPOSTI",null,null,null,null,null,null,"Maksun saajan tilinumero",null,null,0]
[null,null,null,"Y-tunnus"]
[]
[null,null,null,"Tuotenumero","Tuotenimi",null,null,null,null,"määrä","á-hinta","Alv %","Veroton","Vero","Yhteensä"]
[null,null,null,{"$f":"IFERROR(VLOOKUP(E15,Tuoteluettelo!1:1048576,2,FALSE),\"\")","v":""},null,null,null,null,null,null,{"$f":"IFERROR(VLOOKUP(E15,Tuoteluettelo!1:1048576,3,FALSE),\"\")","v":""},0,{"$f":"IFERROR(J15*K15,\"0\")","v":"0"},{"$f":"IFERROR(L15*M15, \"0\")","v":0},{"$f":"IFERROR(M15+N15,\"0\")","v":0}]
[null,null,null,{"$f":"IFERROR(VLOOKUP(E16,Tuoteluettelo!1:1048576,2,FALSE),\"\")","v":""},null,null,null,null,null,null,{"$f":"IFERROR(VLOOKUP(E16,Tuoteluettelo!1:1048576,3,FALSE),\"\")","v":""},0,{"$f":"IFERROR(J16*K16,\"0\")","v":"0"},{"$f":"IFERROR(L16*M16, \"0\")","v":0},{"$f":"IFERROR(M16+N16,\"0\")","v":0}]
[null,null,null,{"$f":"IFERROR(VLOOKUP(E17,Tuoteluettelo!1:1048576,2,FALSE),\"\")","v":""},null,null,null,null,null,null,{"$f":"IFERROR(VLOOKUP(E17,Tuoteluettelo!1:1048576,3,FALSE),\"\")","v":""},0,{"$f":"IFERROR(J17*K17,\"0\")","v":"0"},0,0,null,null,null,null,null,null,null,null,null,null,null,null,null,null,null,null,"."]
[null,null,null,{"$f":"IFERROR(VLOOKUP(E18,Tuoteluettelo!1:1048576,2,FALSE),\"\")","v":""},null,null,null,null,null,null,{"$f":"IFERROR(VLOOKUP(E18,Tuoteluettelo!1:1048576,3,FALSE),\"\")","v":""},0,"0",0,0]
[null,null,null,{"$f":"IFERROR(VLOOKUP(E19,Tuoteluettelo!1:1048576,2,FALSE),\"\")","v":""},null,null,null,null,null,null,{"$f":"IFERROR(VLOOKUP(E19,Tuoteluettelo!1:1048576,3,FALSE),\"\")","v":""},0,"0",0,0]
[null,null,null,{"$f":"IFERROR(VLOOKUP(E20,Tuoteluettelo!1:1048576,2,FALSE),\"\")","v":""},null,null,null,null,null,null,{"$f":"IFERROR(VLOOKUP(E20,Tuoteluettelo!1:1048576,3,FALSE),\"\")","v":""},0,"0",0,0]
[null,null,null,{"$f":"IFERROR(VLOOKUP(E21,Tuoteluettelo!1:1048576,2,FALSE),\"\")","v":""},null,null,null,null,null,null,{"$f":"IFERROR(VLOOKUP(E21,Tuoteluettelo!1:1048576,3,FALSE),\"\")","v":""},0,"0",0,0]
[null,null,null,{"$f":"IFERROR(VLOOKUP(E22,Tuoteluettelo!1:1048576,2,FALSE),\"\")","v":""},null,null,null,null,null,null,{"$f":"IFERROR(VLOOKUP(E22,Tuoteluettelo!1:1048576,3,FALSE),\"\")","v":""},0,"0",0,0]
[null,null,null,{"$f":"IFERROR(VLOOKUP(E23,Tuoteluettelo!1:1048576,2,FALSE),\"\")","v":""},null,null,null,null,null,null,{"$f":"IFERROR(VLOOKUP(E23,Tuoteluettelo!1:1048576,3,FALSE),\"\")","v":""},0,"0",0,0]
[null,null,null,{"$f":"IFERROR(VLOOKUP(E24,Tuoteluettelo!1:1048576,2,FALSE),\"\")","v":""},null,null,null,null,null,null,{"$f":"IFERROR(VLOOKUP(E24,Tuoteluettelo!1:1048576,3,FALSE),\"\")","v":""},0,"0",0,0]
[null,null,null,{"$f":"IFERROR(VLOOKUP(E25,Tuoteluettelo!1:1048576,2,FALSE),\"\")","v":""},null,null,null,null,null,null,{"$f":"IFERROR(VLOOKUP(E25,Tuoteluettelo!1:1048576,3,FALSE),\"\")","v":""},0,"0",0,0]
[null,null,null,{"$f":"IFERROR(VLOOKUP(E26,Tuoteluettelo!1:1048576,2,FALSE),\"\")","v":""},null,null,null,null,null,null,{"$f":"IFERROR(VLOOKUP(E26,Tuoteluettelo!1:1048576,3,FALSE),\"\")","v":""},0,"0",0,0]
[null,null,null,null,null,null,null,null,null,null,null,"Veroton",null,null,{"$f":"M15+M16+M17+M18+M19+M20+M21+M22+M23+M24+M25+M26","v":0}]
[null,null,null,"Jos sinulla on tätä laskua koskevia kysymyksiä ota yhteyttä:",null,null,null,null,null,null,null,"Vero",null,null,{"$f":"N15+N16+N17+N18+N19+N20+N21+N22+N23+N24+N25+N26","v":0}]
[null,null,null,"Nimi","Puhelinnumero",null,"Sähköpostiosoite",null,null,null,null,"Maksettava yhteensä",null,null,{"$f":"O15+O16+O17+O18+O19+O20+O21+O22+O23+O24+O25+O26","v":0}]
[]
[null,null,null,"Kiitos palveluidemme käyttämisestä."]

{"sheet":"Esimerkki","index":1,"n_rows":32,"n_cols":13,"rows_kept":32,"cut":false,"hidden":false,"merged":[[0,1,0,7],[7,1,7,7],[7,9,7,10],[8,1,8,7],[8,8,8,10],[4,2,4,7],[5,2,5,7],[4,8,4,10],[5,8,5,10],[18,2,18,6],[9,2,9,7],[9,8,9,10],[11,1,11,7],[11,8,11,10],[12,8,12,12],[13,2,13,6],[14,2,14,6],[15,2,15,6],[16,2,16,6],[17,2,17,6],[9,11,9,12],[10,11,10,12],[20,2,20,6],[21,2,21,6],[22,2,22,6],[23,2,23,6],[24,2,24,6],[31,1,31,12],[1,1,1,7],[2,1,2,7],[3,2,3,7],[6,1,6,7],[6,11,6,12],[7,11,7,12],[8,11,8,12],[25,2,25,6],[26,9,26,11],[27,9,27,11],[28,9,28,11],[29,2,29,3],[29,4,29,8],[27,1,27,6],[19,2,19,6],[1,11,1,12],[10,8,10,10],[6,9,6,10],[4,11,4,12],[5,11,5,12],[2,8,2,10],[2,11,2,12],[3,8,3,10],[3,11,3,12]]}
[null,"Myyjä",null,null,null,null,null,null,"LASKU "]
[null,"Anssin Auto & Asennus",null,null,null,null,null,null,null,null,null,"Laskun numero"]
[null,"Kaarakuja 12",null,null,null,null,null,null,"Päivämäärä",null,null,1234]
[null,12300,"KOLARI",null,null,null,null,null,"2018-03-12",null,null,"Asiakasnumero"]
[null,1234567890,"anssinauto@yritys.com",null,null,null,null,null,"Viitenumero",null,null,123456]
[null,"Y-tunnus","12345-6",null,null,null,null,null,123456789101,null,null,"Huomautusaika"]
[null,"Ostaja",null,null,null,null,null,null,"Viivästyskorko",7.0000000000000007E-2,null,"7 vrk"]
[null,"Mirkku Mainio",null,null,null,null,null,null,"Maksuehdot","14 vrk",null,"Eräpäivä"]
[null,"Ketunpolku 3",null,null,null,null,null,null,"Toimituspäivä",null,null,"2018-03-26"]
[null,12400,"KÄPÄLÄMÄKI",null,null,null,null,null,"2018-02-12",null,null,"Tilausnumero"]
[null,"mirkku.mainio@yksityinen.fi",null,null,null,null,null,null,"Maksun saajan tilinumero",null,null,1234567]
[null,"y-tunnus",null,null,null,null,null,null,"FI12 1234 1234 123"]
[]
[null,"Tuotenumero","Tuotenimi",null,null,null,null,"määrä","á-hinta","Alv %","Veroton","Vero","Yhteensä"]
[null,{"$f":"IFERROR(VLOOKUP(C15,Tuoteluettelo!1:1048576,2,FALSE),\"\")","v":""},null,null,null,null,null,null,{"$f":"IFERROR(VLOOKUP(C15,Tuoteluettelo!1:1048576,3,FALSE),\"\")","v":""},0,{"$f":"IFERROR(H15*I15,\"0\")","v":"0"},{"$f":"IFERROR(J15*K15, \"0\")","v":0},{"$f":"IFERROR(K15+L15,\"0\")","v":0}]
[null,null,null,null,null,null,null,null,{"$f":"IFERROR(VLOOKUP(C16,Tuoteluettelo!1:1048576,3,FALSE),\"\")","v":""},0,{"$f":"IFERROR(H16*I16,\"0\")","v":"0"},{"$f":"IFERROR(J16*K16, \"0\")","v":0},{"$f":"IFERROR(K16+L16,\"0\")","v":0}]
[null,{"$f":"IFERROR(VLOOKUP(C17,Tuoteluettelo!1:1048576,2,FALSE),\"\")","v":""},null,null,null,null,null,null,{"$f":"IFERROR(VLOOKUP(C17,Tuoteluettelo!1:1048576,3,FALSE),\"\")","v":""},0,{"$f":"IFERROR(H17*I17,\"0\")","v":"0"},0,0]
[null,{"$f":"IFERROR(VLOOKUP(C18,Tuoteluettelo!1:1048576,2,FALSE),\"\")","v":""},null,null,null,null,null,null,{"$f":"IFERROR(VLOOKUP(C18,Tuoteluettelo!1:1048576,3,FALSE),\"\")","v":""},0,"0",0,0]
[null,{"$f":"IFERROR(VLOOKUP(C19,Tuoteluettelo!1:1048576,2,FALSE),\"\")","v":""},null,null,null,null,null,null,{"$f":"IFERROR(VLOOKUP(C19,Tuoteluettelo!1:1048576,3,FALSE),\"\")","v":""},0,"0",0,0]
[null,{"$f":"IFERROR(VLOOKUP(C20,Tuoteluettelo!1:1048576,2,FALSE),\"\")","v":""},null,null,null,null,null,null,{"$f":"IFERROR(VLOOKUP(C20,Tuoteluettelo!1:1048576,3,FALSE),\"\")","v":""},0,"0",0,0]
[null,{"$f":"IFERROR(VLOOKUP(C21,Tuoteluettelo!1:1048576,2,FALSE),\"\")","v":""},null,null,null,null,null,null,{"$f":"IFERROR(VLOOKUP(C21,Tuoteluettelo!1:1048576,3,FALSE),\"\")","v":""},0,"0",0,0]
[null,{"$f":"IFERROR(VLOOKUP(C22,Tuoteluettelo!1:1048576,2,FALSE),\"\")","v":""},null,null,null,null,null,null,{"$f":"IFERROR(VLOOKUP(C22,Tuoteluettelo!1:1048576,3,FALSE),\"\")","v":""},0,"0",0,0]
[null,{"$f":"IFERROR(VLOOKUP(C23,Tuoteluettelo!1:1048576,2,FALSE),\"\")","v":""},null,null,null,null,null,null,{"$f":"IFERROR(VLOOKUP(C23,Tuoteluettelo!1:1048576,3,FALSE),\"\")","v":""},0,"0",0,0]
[null,{"$f":"IFERROR(VLOOKUP(C24,Tuoteluettelo!1:1048576,2,FALSE),\"\")","v":""},null,null,null,null,null,null,{"$f":"IFERROR(VLOOKUP(C24,Tuoteluettelo!1:1048576,3,FALSE),\"\")","v":""},0,"0",0,0]
[null,{"$f":"IFERROR(VLOOKUP(C25,Tuoteluettelo!1:1048576,2,FALSE),\"\")","v":""},null,null,null,null,null,null,{"$f":"IFERROR(VLOOKUP(C25,Tuoteluettelo!1:1048576,3,FALSE),\"\")","v":""},0,"0",0,0]
[null,{"$f":"IFERROR(VLOOKUP(C26,Tuoteluettelo!1:1048576,2,FALSE),\"\")","v":""},null,null,null,null,null,null,{"$f":"IFERROR(VLOOKUP(C26,Tuoteluettelo!1:1048576,3,FALSE),\"\")","v":""},0,"0",0,0]
[null,null,null,null,null,null,null,null,null,"Veroton",null,null,{"$f":"K15+K16+K17+K18+K19+K20+K21+K22+K23+K24+K25+K26","v":0}]
[null,"Jos sinulla on tätä laskua koskevia kysymyksiä ota yhteyttä:",null,null,null,null,null,null,null,"Vero",null,null,{"$f":"L15+L16+L17+L18+L19+L20+L21+L22+L23+L24+L25+L26","v":0}]
[null,null,null,null,null,null,null,null,null,"Maksettava yhteensä",null,null,{"$f":"M15+M16+M17+M18+M19+M20+M21+M22+M23+M24+M25+M26","v":0}]
[null,"Anssi Ahkera","050-123 4567",null,"anssinauto@yritys.com"]
[]
[null,"Kiitos palveluidemme käyttämisestä."]

{"sheet":"Laskupohja pysty","index":2,"n_rows":40,"n_cols":35,"rows_kept":40,"cut":false,"hidden":false,"merged":[[5,2,5,8],[5,9,5,11],[6,3,6,8],[6,9,6,11],[1,2,3,8],[4,2,4,8],[4,9,4,11],[10,9,10,11],[13,3,13,8],[11,9,11,11],[11,2,11,8],[7,3,7,8],[7,9,7,11],[8,9,8,11],[8,2,8,3],[8,4,8,8],[23,3,23,7],[14,2,14,8],[15,2,15,3],[15,4,15,8],[12,2,12,8],[18,3,18,7],[19,3,19,7],[20,3,20,7],[21,3,21,7],[22,3,22,7],[39,2,39,12],[10,2,10,8],[9,10,9,11],[35,2,35,9],[36,5,36,8],[36,9,36,12],[13,9,13,11],[14,9,14,12],[30,10,30,11],[31,10,31,11],[24,3,24,7],[25,3,25,7],[26,3,26,7],[27,3,27,7],[28,3,28,7],[29,3,29,7]]}
[]
[null,null,"YRITYKSEN LOGO",null,null,null,null,null,null,"LASKU "]
[]
[null,null,null,null,null,null,null,null,null,"Päivämäärä",null,null,"Laskunro"]
[null,null,"NIMI",null,null,null,null,null,null,"00.00.0000",null,null,0]
[null,null,"KATUOSOITE",null,null,null,null,null,null,"Viitenumero",null,null,"Asiakasnro"]
[null,null,"POSTINRO ","POSTITOIMIPAIKKA",null,null,null,null,null,"00000 00000 00000",null,null,0]
[null,null,"PUHNRO","SÄHKÖPOSTI",null,null,null,null,null,"Huomautusaika",null,null,"Viivästyskorko"]
[null,null,"Y-tunnus",null,null,null,null,null,null,"vrk",null,null,"%"]
[null,null,null,null,null,null,null,null,null,"Maksuehdot","vrk",null,"Eräpäivä"]
[null,null,"Laskutettavan yhteystiedot",null,null,null,null,null,null,"Toimituspäivä",null,null,"00.00.0000",null,null,null," "]
[null,null,"LASKUN SAAJAN NIMI",null,null,null,null,null,null,"00.00.0000",null,null,"Tilausnumero"]
[null,null,"KATUOSOITE",null,null,null,null,null,null,null,null,null,0]
[null,null,"POSTINRO","POSTITOIMIPAIKKA",null,null,null,null,null,"Maksun saajan tilinumero"]
[null,null,"SÄHKÖPOSTI"]
[null,null,"Y-tunnus"]
[]
[null,null,"Tuotenumero","Tuotenimi",null,null,null,null,"määrä","á-hinta","Alv ","Veroton","Vero"]
[null,null,{"$f":"IFERROR(VLOOKUP(D19,Tuoteluettelo!1:1048576,2,FALSE),\"\")","v":""},null,null,null,null,null,null,{"$f":"IFERROR(VLOOKUP(D19,Tuoteluettelo!1:1048576,3,FALSE),\"\")","v":""},0.14000000000000001,{"$f":"IFERROR(I19*J19,\"0\")","v":"0"},{"$f":"IFERROR(K19*L19, \"0\")","v":0}]
[null,null,{"$f":"IFERROR(VLOOKUP(D20,Tuoteluettelo!1:1048576,2,FALSE),\"\")","v":""},null,null,null,null,null,null,{"$f":"IFERROR(VLOOKUP(D20,Tuoteluettelo!1:1048576,3,FALSE),\"\")","v":""},0,{"$f":"IFERROR(I20*J20,\"0\")","v":"0"},{"$f":"IFERROR(K20*L20, \"0\")","v":0}]
[null,null,{"$f":"IFERROR(VLOOKUP(D21,Tuoteluettelo!1:1048576,2,FALSE),\"\")","v":""},null,null,null,null,null,null,{"$f":"IFERROR(VLOOKUP(D21,Tuoteluettelo!1:1048576,3,FALSE),\"\")","v":""},0,{"$f":"IFERROR(I21*J21,\"0\")","v":"0"},0,null,null,null,null,null,null,null,null,null,null,null,null,null,null,null,null,null,null,null,null,null,"."]
[null,null,{"$f":"IFERROR(VLOOKUP(D22,Tuoteluettelo!1:1048576,2,FALSE),\"\")","v":""},null,null,null,null,null,null,{"$f":"IFERROR(VLOOKUP(D22,Tuoteluettelo!1:1048576,3,FALSE),\"\")","v":""},0,"0",0]
[null,null,{"$f":"IFERROR(VLOOKUP(D23,Tuoteluettelo!1:1048576,2,FALSE),\"\")","v":""},null,null,null,null,null,null,{"$f":"IFERROR(VLOOKUP(D23,Tuoteluettelo!1:1048576,3,FALSE),\"\")","v":""},0,"0",0]
[null,null,{"$f":"IFERROR(VLOOKUP(D24,Tuoteluettelo!1:1048576,2,FALSE),\"\")","v":""},null,null,null,null,null,null,{"$f":"IFERROR(VLOOKUP(D24,Tuoteluettelo!1:1048576,3,FALSE),\"\")","v":""},0,"0",0]
[null,null,{"$f":"IFERROR(VLOOKUP(D25,Tuoteluettelo!1:1048576,2,FALSE),\"\")","v":""},null,null,null,null,null,null,{"$f":"IFERROR(VLOOKUP(D25,Tuoteluettelo!1:1048576,3,FALSE),\"\")","v":""},0,"0",0]
[null,null,{"$f":"IFERROR(VLOOKUP(D26,Tuoteluettelo!1:1048576,2,FALSE),\"\")","v":""},null,null,null,null,null,null,{"$f":"IFERROR(VLOOKUP(D26,Tuoteluettelo!1:1048576,3,FALSE),\"\")","v":""},0,"0",0]
[null,null,{"$f":"IFERROR(VLOOKUP(D27,Tuoteluettelo!1:1048576,2,FALSE),\"\")","v":""},null,null,null,null,null,null,{"$f":"IFERROR(VLOOKUP(D27,Tuoteluettelo!1:1048576,3,FALSE),\"\")","v":""},0,"0",0]
[null,null,{"$f":"IFERROR(VLOOKUP(D28,Tuoteluettelo!1:1048576,2,FALSE),\"\")","v":""},null,null,null,null,null,null,{"$f":"IFERROR(VLOOKUP(D28,Tuoteluettelo!1:1048576,3,FALSE),\"\")","v":""},0,"0",0]
[null,null,{"$f":"IFERROR(VLOOKUP(D29,Tuoteluettelo!1:1048576,2,FALSE),\"\")","v":""},null,null,null,null,null,null,{"$f":"IFERROR(VLOOKUP(D29,Tuoteluettelo!1:1048576,3,FALSE),\"\")","v":""},0,"0",0]
[null,null,{"$f":"IFERROR(VLOOKUP(D30,Tuoteluettelo!1:1048576,2,FALSE),\"\")","v":""},null,null,null,null,null,null,{"$f":"IFERROR(VLOOKUP(D30,Tuoteluettelo!1:1048576,3,FALSE),\"\")","v":""},0,"0",0]
[null,null,null,null,null,null,null,null,null,null,"Veroton",null,{"$f":"+L19+L20+L21+L22+L23+L24+L25+L26+L27+L28+L29+L30","v":0}]
[null,null,null,null,null,null,null,null,null,null,"Vero",null,{"$f":"M19+M20+M21+M22+M23+M24+M25+M26+M27+M28+M29+M30","v":0}]
[null,null,null,null,null,null,null,null,null,null,"Maksettava yhteensä",null,{"$f":"+M31+M32","v":0}]
[]
[]
[null,null,"Jos sinulla on tätä laskua koskevia kysymyksiä ota yhteyttä:"]
[null,null,"Nimi",null,null,"Puhelinnumero",null,null,null,"Sähköpostiosoite"]
[]
[]
[null,null,"Kiitos palveluidemme käyttämisestä."]

{"sheet":"Tuoteluettelo","index":3,"n_rows":300,"n_cols":10,"rows_kept":300,"cut":false,"hidden":false,"merged":[]}
[]
["tuotenimi","tuotenumero","hinta",null,"ALV-kannat"]
[null,null,null,null,0]
[null,null,null,null,0.1]
[null,null,null,null,0.14000000000000001]
[null,null,null,null,0.24]
[]
[]
[]
[]
[]
[]
[]
[]
[]
[]
[]
[]
[]
[]
[]
[]
[]
[]
[]
[]
[]
[]
[]
[]
[]
[]
[]
[]
[]
[]
[]
[]
[]
[]
[]
[]
[]
[]
[]
[]
[]
[]
[]
[]
[]
[]
[]
[]
[]
[]
[]
[]
[]
[]
[]
[]
[]
[]
[]
[]
[]
[]
[]
[]
[]
[]
[]
[]
[]
[]
[]
[]
[]
[]
[]
[]
[]
[]
[]
[]
[]
[]
[]
[]
[]
[]
[]
[]
[]
[]
[]
[]
[]
[null,null,null,null,null,null,null,null,{"$f":"IF(H100=1,COUNTIF($H$3:H100,1),\"\")","v":""},{"$f":"IFERROR(INDEX($A$3:$A$103,MATCH(ROWS($I$3:I100),$I$3:$I$100,0)),\"\")","v":""}]
[null,null,null,null,null,null,null,null,{"$f":"IF(H101=1,COUNTIF($H$3:H101,1),\"\")","v":""},{"$f":"IFERROR(INDEX($A$3:$A$103,MATCH(ROWS($I$3:I101),$I$3:$I$100,0)),\"\")","v":""}]
[null,null,null,null,null,null,null,null,{"$f":"IF(H102=1,COUNTIF($H$3:H102,1),\"\")","v":""},{"$f":"IFERROR(INDEX($A$3:$A$103,MATCH(ROWS($I$3:I102),$I$3:$I$100,0)),\"\")","v":""}]
[null,null,null,null,null,null,null,null,{"$f":"IF(H103=1,COUNTIF($H$3:H103,1),\"\")","v":""},{"$f":"IFERROR(INDEX($A$3:$A$103,MATCH(ROWS($I$3:I103),$I$3:$I$100,0)),\"\")","v":""}]
[null,null,null,null,null,null,null,null,{"$f":"IF(H104=1,COUNTIF($H$3:H104,1),\"\")","v":""},{"$f":"IFERROR(INDEX($A$3:$A$103,MATCH(ROWS($I$3:I104),$I$3:$I$100,0)),\"\")","v":""}]
[null,null,null,null,null,null,null,null,{"$f":"IF(H105=1,COUNTIF($H$3:H105,1),\"\")","v":""},{"$f":"IFERROR(INDEX($A$3:$A$103,MATCH(ROWS($I$3:I105),$I$3:$I$100,0)),\"\")","v":""}]
[null,null,null,null,null,null,null,null,{"$f":"IF(H106=1,COUNTIF($H$3:H106,1),\"\")","v":""},{"$f":"IFERROR(INDEX($A$3:$A$103,MATCH(ROWS($I$3:I106),$I$3:$I$100,0)),\"\")","v":""}]
[null,null,null,null,null,null,null,null,{"$f":"IF(H107=1,COUNTIF($H$3:H107,1),\"\")","v":""},{"$f":"IFERROR(INDEX($A$3:$A$103,MATCH(ROWS($I$3:I107),$I$3:$I$100,0)),\"\")","v":""}]
[null,null,null,null,null,null,null,null,{"$f":"IF(H108=1,COUNTIF($H$3:H108,1),\"\")","v":""},{"$f":"IFERROR(INDEX($A$3:$A$103,MATCH(ROWS($I$3:I108),$I$3:$I$100,0)),\"\")","v":""}]
[null,null,null,null,null,null,null,null,{"$f":"IF(H109=1,COUNTIF($H$3:H109,1),\"\")","v":""},{"$f":"IFERROR(INDEX($A$3:$A$103,MATCH(ROWS($I$3:I109),$I$3:$I$100,0)),\"\")","v":""}]
[null,null,null,null,null,null,null,null,{"$f":"IF(H110=1,COUNTIF($H$3:H110,1),\"\")","v":""},{"$f":"IFERROR(INDEX($A$3:$A$103,MATCH(ROWS($I$3:I110),$I$3:$I$100,0)),\"\")","v":""}]
[null,null,null,null,null,null,null,null,{"$f":"IF(H111=1,COUNTIF($H$3:H111,1),\"\")","v":""},{"$f":"IFERROR(INDEX($A$3:$A$103,MATCH(ROWS($I$3:I111),$I$3:$I$100,0)),\"\")","v":""}]
[null,null,null,null,null,null,null,null,{"$f":"IF(H112=1,COUNTIF($H$3:H112,1),\"\")","v":""},{"$f":"IFERROR(INDEX($A$3:$A$103,MATCH(ROWS($I$3:I112),$I$3:$I$100,0)),\"\")","v":""}]
[null,null,null,null,null,null,null,null,{"$f":"IF(H113=1,COUNTIF($H$3:H113,1),\"\")","v":""},{"$f":"IFERROR(INDEX($A$3:$A$103,MATCH(ROWS($I$3:I113),$I$3:$I$100,0)),\"\")","v":""}]
[null,null,null,null,null,null,null,null,{"$f":"IF(H114=1,COUNTIF($H$3:H114,1),\"\")","v":""},{"$f":"IFERROR(INDEX($A$3:$A$103,MATCH(ROWS($I$3:I114),$I$3:$I$100,0)),\"\")","v":""}]
[null,null,null,null,null,null,null,null,{"$f":"IF(H115=1,COUNTIF($H$3:H115,1),\"\")","v":""},{"$f":"IFERROR(INDEX($A$3:$A$103,MATCH(ROWS($I$3:I115),$I$3:$I$100,0)),\"\")","v":""}]
[null,null,null,null,null,null,null,null,{"$f":"IF(H116=1,COUNTIF($H$3:H116,1),\"\")","v":""},{"$f":"IFERROR(INDEX($A$3:$A$103,MATCH(ROWS($I$3:I116),$I$3:$I$100,0)),\"\")","v":""}]
[null,null,null,null,null,null,null,null,{"$f":"IF(H117=1,COUNTIF($H$3:H117,1),\"\")","v":""},{"$f":"IFERROR(INDEX($A$3:$A$103,MATCH(ROWS($I$3:I117),$I$3:$I$100,0)),\"\")","v":""}]
[null,null,null,null,null,null,null,null,{"$f":"IF(H118=1,COUNTIF($H$3:H118,1),\"\")","v":""},{"$f":"IFERROR(INDEX($A$3:$A$103,MATCH(ROWS($I$3:I118),$I$3:$I$100,0)),\"\")","v":""}]
[null,null,null,null,null,null,null,null,{"$f":"IF(H119=1,COUNTIF($H$3:H119,1),\"\")","v":""},{"$f":"IFERROR(INDEX($A$3:$A$103,MATCH(ROWS($I$3:I119),$I$3:$I$100,0)),\"\")","v":""}]
[null,null,null,null,null,null,null,null,{"$f":"IF(H120=1,COUNTIF($H$3:H120,1),\"\")","v":""},{"$f":"IFERROR(INDEX($A$3:$A$103,MATCH(ROWS($I$3:I120),$I$3:$I$100,0)),\"\")","v":""}]
[null,null,null,null,null,null,null,null,{"$f":"IF(H121=1,COUNTIF($H$3:H121,1),\"\")","v":""},{"$f":"IFERROR(INDEX($A$3:$A$103,MATCH(ROWS($I$3:I121),$I$3:$I$100,0)),\"\")","v":""}]
[null,null,null,null,null,null,null,null,{"$f":"IF(H122=1,COUNTIF($H$3:H122,1),\"\")","v":""},{"$f":"IFERROR(INDEX($A$3:$A$103,MATCH(ROWS($I$3:I122),$I$3:$I$100,0)),\"\")","v":""}]
[null,null,null,null,null,null,null,null,{"$f":"IF(H123=1,COUNTIF($H$3:H123,1),\"\")","v":""},{"$f":"IFERROR(INDEX($A$3:$A$103,MATCH(ROWS($I$3:I123),$I$3:$I$100,0)),\"\")","v":""}]
[null,null,null,null,null,null,null,null,{"$f":"IF(H124=1,COUNTIF($H$3:H124,1),\"\")","v":""},{"$f":"IFERROR(INDEX($A$3:$A$103,MATCH(ROWS($I$3:I124),$I$3:$I$100,0)),\"\")","v":""}]
[null,null,null,null,null,null,null,null,{"$f":"IF(H125=1,COUNTIF($H$3:H125,1),\"\")","v":""},{"$f":"IFERROR(INDEX($A$3:$A$103,MATCH(ROWS($I$3:I125),$I$3:$I$100,0)),\"\")","v":""}]
[null,null,null,null,null,null,null,null,{"$f":"IF(H126=1,COUNTIF($H$3:H126,1),\"\")","v":""},{"$f":"IFERROR(INDEX($A$3:$A$103,MATCH(ROWS($I$3:I126),$I$3:$I$100,0)),\"\")","v":""}]
[null,null,null,null,null,null,null,null,{"$f":"IF(H127=1,COUNTIF($H$3:H127,1),\"\")","v":""},{"$f":"IFERROR(INDEX($A$3:$A$103,MATCH(ROWS($I$3:I127),$I$3:$I$100,0)),\"\")","v":""}]
[null,null,null,null,null,null,null,null,{"$f":"IF(H128=1,COUNTIF($H$3:H128,1),\"\")","v":""},{"$f":"IFERROR(INDEX($A$3:$A$103,MATCH(ROWS($I$3:I128),$I$3:$I$100,0)),\"\")","v":""}]
[null,null,null,null,null,null,null,null,{"$f":"IF(H129=1,COUNTIF($H$3:H129,1),\"\")","v":""},{"$f":"IFERROR(INDEX($A$3:$A$103,MATCH(ROWS($I$3:I129),$I$3:$I$100,0)),\"\")","v":""}]
[null,null,null,null,null,null,null,null,{"$f":"IF(H130=1,COUNTIF($H$3:H130,1),\"\")","v":""},{"$f":"IFERROR(INDEX($A$3:$A$103,MATCH(ROWS($I$3:I130),$I$3:$I$100,0)),\"\")","v":""}]
[null,null,null,null,null,null,null,null,{"$f":"IF(H131=1,COUNTIF($H$3:H131,1),\"\")","v":""},{"$f":"IFERROR(INDEX($A$3:$A$103,MATCH(ROWS($I$3:I131),$I$3:$I$100,0)),\"\")","v":""}]
[null,null,null,null,null,null,null,null,{"$f":"IF(H132=1,COUNTIF($H$3:H132,1),\"\")","v":""},{"$f":"IFERROR(INDEX($A$3:$A$103,MATCH(ROWS($I$3:I132),$I$3:$I$100,0)),\"\")","v":""}]
[null,null,null,null,null,null,null,null,{"$f":"IF(H133=1,COUNTIF($H$3:H133,1),\"\")","v":""},{"$f":"IFERROR(INDEX($A$3:$A$103,MATCH(ROWS($I$3:I133),$I$3:$I$100,0)),\"\")","v":""}]
[null,null,null,null,null,null,null,null,{"$f":"IF(H134=1,COUNTIF($H$3:H134,1),\"\")","v":""},{"$f":"IFERROR(INDEX($A$3:$A$103,MATCH(ROWS($I$3:I134),$I$3:$I$100,0)),\"\")","v":""}]
[null,null,null,null,null,null,null,null,{"$f":"IF(H135=1,COUNTIF($H$3:H135,1),\"\")","v":""},{"$f":"IFERROR(INDEX($A$3:$A$103,MATCH(ROWS($I$3:I135),$I$3:$I$100,0)),\"\")","v":""}]
[null,null,null,null,null,null,null,null,{"$f":"IF(H136=1,COUNTIF($H$3:H136,1),\"\")","v":""},{"$f":"IFERROR(INDEX($A$3:$A$103,MATCH(ROWS($I$3:I136),$I$3:$I$100,0)),\"\")","v":""}]
[null,null,null,null,null,null,null,null,{"$f":"IF(H137=1,COUNTIF($H$3:H137,1),\"\")","v":""},{"$f":"IFERROR(INDEX($A$3:$A$103,MATCH(ROWS($I$3:I137),$I$3:$I$100,0)),\"\")","v":""}]
[null,null,null,null,null,null,null,null,{"$f":"IF(H138=1,COUNTIF($H$3:H138,1),\"\")","v":""},{"$f":"IFERROR(INDEX($A$3:$A$103,MATCH(ROWS($I$3:I138),$I$3:$I$100,0)),\"\")","v":""}]
[null,null,null,null,null,null,null,null,{"$f":"IF(H139=1,COUNTIF($H$3:H139,1),\"\")","v":""},{"$f":"IFERROR(INDEX($A$3:$A$103,MATCH(ROWS($I$3:I139),$I$3:$I$100,0)),\"\")","v":""}]
[null,null,null,null,null,null,null,null,{"$f":"IF(H140=1,COUNTIF($H$3:H140,1),\"\")","v":""},{"$f":"IFERROR(INDEX($A$3:$A$103,MATCH(ROWS($I$3:I140),$I$3:$I$100,0)),\"\")","v":""}]
[null,null,null,null,null,null,null,null,{"$f":"IF(H141=1,COUNTIF($H$3:H141,1),\"\")","v":""},{"$f":"IFERROR(INDEX($A$3:$A$103,MATCH(ROWS($I$3:I141),$I$3:$I$100,0)),\"\")","v":""}]
[null,null,null,null,null,null,null,null,{"$f":"IF(H142=1,COUNTIF($H$3:H142,1),\"\")","v":""},{"$f":"IFERROR(INDEX($A$3:$A$103,MATCH(ROWS($I$3:I142),$I$3:$I$100,0)),\"\")","v":""}]
[null,null,null,null,null,null,null,null,{"$f":"IF(H143=1,COUNTIF($H$3:H143,1),\"\")","v":""},{"$f":"IFERROR(INDEX($A$3:$A$103,MATCH(ROWS($I$3:I143),$I$3:$I$100,0)),\"\")","v":""}]
[null,null,null,null,null,null,null,null,{"$f":"IF(H144=1,COUNTIF($H$3:H144,1),\"\")","v":""},{"$f":"IFERROR(INDEX($A$3:$A$103,MATCH(ROWS($I$3:I144),$I$3:$I$100,0)),\"\")","v":""}]
[null,null,null,null,null,null,null,null,{"$f":"IF(H145=1,COUNTIF($H$3:H145,1),\"\")","v":""},{"$f":"IFERROR(INDEX($A$3:$A$103,MATCH(ROWS($I$3:I145),$I$3:$I$100,0)),\"\")","v":""}]
[null,null,null,null,null,null,null,null,{"$f":"IF(H146=1,COUNTIF($H$3:H146,1),\"\")","v":""},{"$f":"IFERROR(INDEX($A$3:$A$103,MATCH(ROWS($I$3:I146),$I$3:$I$100,0)),\"\")","v":""}]
[null,null,null,null,null,null,null,null,{"$f":"IF(H147=1,COUNTIF($H$3:H147,1),\"\")","v":""},{"$f":"IFERROR(INDEX($A$3:$A$103,MATCH(ROWS($I$3:I147),$I$3:$I$100,0)),\"\")","v":""}]
[null,null,null,null,null,null,null,null,{"$f":"IF(H148=1,COUNTIF($H$3:H148,1),\"\")","v":""},{"$f":"IFERROR(INDEX($A$3:$A$103,MATCH(ROWS($I$3:I148),$I$3:$I$100,0)),\"\")","v":""}]
[null,null,null,null,null,null,null,null,{"$f":"IF(H149=1,COUNTIF($H$3:H149,1),\"\")","v":""},{"$f":"IFERROR(INDEX($A$3:$A$103,MATCH(ROWS($I$3:I149),$I$3:$I$100,0)),\"\")","v":""}]
[null,null,null,null,null,null,null,null,{"$f":"IF(H150=1,COUNTIF($H$3:H150,1),\"\")","v":""},{"$f":"IFERROR(INDEX($A$3:$A$103,MATCH(ROWS($I$3:I150),$I$3:$I$100,0)),\"\")","v":""}]
[null,null,null,null,null,null,null,null,{"$f":"IF(H151=1,COUNTIF($H$3:H151,1),\"\")","v":""},{"$f":"IFERROR(INDEX($A$3:$A$103,MATCH(ROWS($I$3:I151),$I$3:$I$100,0)),\"\")","v":""}]
[null,null,null,null,null,null,null,null,{"$f":"IF(H152=1,COUNTIF($H$3:H152,1),\"\")","v":""},{"$f":"IFERROR(INDEX($A$3:$A$103,MATCH(ROWS($I$3:I152),$I$3:$I$100,0)),\"\")","v":""}]
[null,null,null,null,null,null,null,null,{"$f":"IF(H153=1,COUNTIF($H$3:H153,1),\"\")","v":""},{"$f":"IFERROR(INDEX($A$3:$A$103,MATCH(ROWS($I$3:I153),$I$3:$I$100,0)),\"\")","v":""}]
[null,null,null,null,null,null,null,null,{"$f":"IF(H154=1,COUNTIF($H$3:H154,1),\"\")","v":""},{"$f":"IFERROR(INDEX($A$3:$A$103,MATCH(ROWS($I$3:I154),$I$3:$I$100,0)),\"\")","v":""}]
[null,null,null,null,null,null,null,null,{"$f":"IF(H155=1,COUNTIF($H$3:H155,1),\"\")","v":""},{"$f":"IFERROR(INDEX($A$3:$A$103,MATCH(ROWS($I$3:I155),$I$3:$I$100,0)),\"\")","v":""}]
[null,null,null,null,null,null,null,null,{"$f":"IF(H156=1,COUNTIF($H$3:H156,1),\"\")","v":""},{"$f":"IFERROR(INDEX($A$3:$A$103,MATCH(ROWS($I$3:I156),$I$3:$I$100,0)),\"\")","v":""}]
[null,null,null,null,null,null,null,null,{"$f":"IF(H157=1,COUNTIF($H$3:H157,1),\"\")","v":""},{"$f":"IFERROR(INDEX($A$3:$A$103,MATCH(ROWS($I$3:I157),$I$3:$I$100,0)),\"\")","v":""}]
[null,null,null,null,null,null,null,null,{"$f":"IF(H158=1,COUNTIF($H$3:H158,1),\"\")","v":""},{"$f":"IFERROR(INDEX($A$3:$A$103,MATCH(ROWS($I$3:I158),$I$3:$I$100,0)),\"\")","v":""}]
[null,null,null,null,null,null,null,null,{"$f":"IF(H159=1,COUNTIF($H$3:H159,1),\"\")","v":""},{"$f":"IFERROR(INDEX($A$3:$A$103,MATCH(ROWS($I$3:I159),$I$3:$I$100,0)),\"\")","v":""}]
[null,null,null,null,null,null,null,null,{"$f":"IF(H160=1,COUNTIF($H$3:H160,1),\"\")","v":""},{"$f":"IFERROR(INDEX($A$3:$A$103,MATCH(ROWS($I$3:I160),$I$3:$I$100,0)),\"\")","v":""}]
[null,null,null,null,null,null,null,null,{"$f":"IF(H161=1,COUNTIF($H$3:H161,1),\"\")","v":""},{"$f":"IFERROR(INDEX($A$3:$A$103,MATCH(ROWS($I$3:I161),$I$3:$I$100,0)),\"\")","v":""}]
[null,null,null,null,null,null,null,null,{"$f":"IF(H162=1,COUNTIF($H$3:H162,1),\"\")","v":""},{"$f":"IFERROR(INDEX($A$3:$A$103,MATCH(ROWS($I$3:I162),$I$3:$I$100,0)),\"\")","v":""}]
[null,null,null,null,null,null,null,null,{"$f":"IF(H163=1,COUNTIF($H$3:H163,1),\"\")","v":""},{"$f":"IFERROR(INDEX($A$3:$A$103,MATCH(ROWS($I$3:I163),$I$3:$I$100,0)),\"\")","v":""}]
[null,null,null,null,null,null,null,null,{"$f":"IF(H164=1,COUNTIF($H$3:H164,1),\"\")","v":""},{"$f":"IFERROR(INDEX($A$3:$A$103,MATCH(ROWS($I$3:I164),$I$3:$I$100,0)),\"\")","v":""}]
[null,null,null,null,null,null,null,null,{"$f":"IF(H165=1,COUNTIF($H$3:H165,1),\"\")","v":""},{"$f":"IFERROR(INDEX($A$3:$A$103,MATCH(ROWS($I$3:I165),$I$3:$I$100,0)),\"\")","v":""}]
[null,null,null,null,null,null,null,null,{"$f":"IF(H166=1,COUNTIF($H$3:H166,1),\"\")","v":""},{"$f":"IFERROR(INDEX($A$3:$A$103,MATCH(ROWS($I$3:I166),$I$3:$I$100,0)),\"\")","v":""}]
[null,null,null,null,null,null,null,null,{"$f":"IF(H167=1,COUNTIF($H$3:H167,1),\"\")","v":""},{"$f":"IFERROR(INDEX($A$3:$A$103,MATCH(ROWS($I$3:I167),$I$3:$I$100,0)),\"\")","v":""}]
[null,null,null,null,null,null,null,null,{"$f":"IF(H168=1,COUNTIF($H$3:H168,1),\"\")","v":""},{"$f":"IFERROR(INDEX($A$3:$A$103,MATCH(ROWS($I$3:I168),$I$3:$I$100,0)),\"\")","v":""}]
[null,null,null,null,null,null,null,null,{"$f":"IF(H169=1,COUNTIF($H$3:H169,1),\"\")","v":""},{"$f":"IFERROR(INDEX($A$3:$A$103,MATCH(ROWS($I$3:I169),$I$3:$I$100,0)),\"\")","v":""}]
[null,null,null,null,null,null,null,null,{"$f":"IF(H170=1,COUNTIF($H$3:H170,1),\"\")","v":""},{"$f":"IFERROR(INDEX($A$3:$A$103,MATCH(ROWS($I$3:I170),$I$3:$I$100,0)),\"\")","v":""}]
[null,null,null,null,null,null,null,null,{"$f":"IF(H171=1,COUNTIF($H$3:H171,1),\"\")","v":""},{"$f":"IFERROR(INDEX($A$3:$A$103,MATCH(ROWS($I$3:I171),$I$3:$I$100,0)),\"\")","v":""}]
[null,null,null,null,null,null,null,null,{"$f":"IF(H172=1,COUNTIF($H$3:H172,1),\"\")","v":""},{"$f":"IFERROR(INDEX($A$3:$A$103,MATCH(ROWS($I$3:I172),$I$3:$I$100,0)),\"\")","v":""}]
[null,null,null,null,null,null,null,null,{"$f":"IF(H173=1,COUNTIF($H$3:H173,1),\"\")","v":""},{"$f":"IFERROR(INDEX($A$3:$A$103,MATCH(ROWS($I$3:I173),$I$3:$I$100,0)),\"\")","v":""}]
[null,null,null,null,null,null,null,null,{"$f":"IF(H174=1,COUNTIF($H$3:H174,1),\"\")","v":""},{"$f":"IFERROR(INDEX($A$3:$A$103,MATCH(ROWS($I$3:I174),$I$3:$I$100,0)),\"\")","v":""}]
[null,null,null,null,null,null,null,null,{"$f":"IF(H175=1,COUNTIF($H$3:H175,1),\"\")","v":""},{"$f":"IFERROR(INDEX($A$3:$A$103,MATCH(ROWS($I$3:I175),$I$3:$I$100,0)),\"\")","v":""}]
[null,null,null,null,null,null,null,null,{"$f":"IF(H176=1,COUNTIF($H$3:H176,1),\"\")","v":""},{"$f":"IFERROR(INDEX($A$3:$A$103,MATCH(ROWS($I$3:I176),$I$3:$I$100,0)),\"\")","v":""}]
[null,null,null,null,null,null,null,null,{"$f":"IF(H177=1,COUNTIF($H$3:H177,1),\"\")","v":""},{"$f":"IFERROR(INDEX($A$3:$A$103,MATCH(ROWS($I$3:I177),$I$3:$I$100,0)),\"\")","v":""}]
[null,null,null,null,null,null,null,null,{"$f":"IF(H178=1,COUNTIF($H$3:H178,1),\"\")","v":""},{"$f":"IFERROR(INDEX($A$3:$A$103,MATCH(ROWS($I$3:I178),$I$3:$I$100,0)),\"\")","v":""}]
[null,null,null,null,null,null,null,null,{"$f":"IF(H179=1,COUNTIF($H$3:H179,1),\"\")","v":""},{"$f":"IFERROR(INDEX($A$3:$A$103,MATCH(ROWS($I$3:I179),$I$3:$I$100,0)),\"\")","v":""}]
[null,null,null,null,null,null,null,null,{"$f":"IF(H180=1,COUNTIF($H$3:H180,1),\"\")","v":""},{"$f":"IFERROR(INDEX($A$3:$A$103,MATCH(ROWS($I$3:I180),$I$3:$I$100,0)),\"\")","v":""}]
[null,null,null,null,null,null,null,null,{"$f":"IF(H181=1,COUNTIF($H$3:H181,1),\"\")","v":""},{"$f":"IFERROR(INDEX($A$3:$A$103,MATCH(ROWS($I$3:I181),$I$3:$I$100,0)),\"\")","v":""}]
[null,null,null,null,null,null,null,null,{"$f":"IF(H182=1,COUNTIF($H$3:H182,1),\"\")","v":""},{"$f":"IFERROR(INDEX($A$3:$A$103,MATCH(ROWS($I$3:I182),$I$3:$I$100,0)),\"\")","v":""}]
[null,null,null,null,null,null,null,null,{"$f":"IF(H183=1,COUNTIF($H$3:H183,1),\"\")","v":""},{"$f":"IFERROR(INDEX($A$3:$A$103,MATCH(ROWS($I$3:I183),$I$3:$I$100,0)),\"\")","v":""}]
[null,null,null,null,null,null,null,null,{"$f":"IF(H184=1,COUNTIF($H$3:H184,1),\"\")","v":""},{"$f":"IFERROR(INDEX($A$3:$A$103,MATCH(ROWS($I$3:I184),$I$3:$I$100,0)),\"\")","v":""}]
[null,null,null,null,null,null,null,null,{"$f":"IF(H185=1,COUNTIF($H$3:H185,1),\"\")","v":""},{"$f":"IFERROR(INDEX($A$3:$A$103,MATCH(ROWS($I$3:I185),$I$3:$I$100,0)),\"\")","v":""}]
[null,null,null,null,null,null,null,null,{"$f":"IF(H186=1,COUNTIF($H$3:H186,1),\"\")","v":""},{"$f":"IFERROR(INDEX($A$3:$A$103,MATCH(ROWS($I$3:I186),$I$3:$I$100,0)),\"\")","v":""}]
[null,null,null,null,null,null,null,null,{"$f":"IF(H187=1,COUNTIF($H$3:H187,1),\"\")","v":""},{"$f":"IFERROR(INDEX($A$3:$A$103,MATCH(ROWS($I$3:I187),$I$3:$I$100,0)),\"\")","v":""}]
[null,null,null,null,null,null,null,null,{"$f":"IF(H188=1,COUNTIF($H$3:H188,1),\"\")","v":""},{"$f":"IFERROR(INDEX($A$3:$A$103,MATCH(ROWS($I$3:I188),$I$3:$I$100,0)),\"\")","v":""}]
[null,null,null,null,null,null,null,null,{"$f":"IF(H189=1,COUNTIF($H$3:H189,1),\"\")","v":""},{"$f":"IFERROR(INDEX($A$3:$A$103,MATCH(ROWS($I$3:I189),$I$3:$I$100,0)),\"\")","v":""}]
[null,null,null,null,null,null,null,null,{"$f":"IF(H190=1,COUNTIF($H$3:H190,1),\"\")","v":""},{"$f":"IFERROR(INDEX($A$3:$A$103,MATCH(ROWS($I$3:I190),$I$3:$I$100,0)),\"\")","v":""}]
[null,null,null,null,null,null,null,null,{"$f":"IF(H191=1,COUNTIF($H$3:H191,1),\"\")","v":""},{"$f":"IFERROR(INDEX($A$3:$A$103,MATCH(ROWS($I$3:I191),$I$3:$I$100,0)),\"\")","v":""}]
[null,null,null,null,null,null,null,null,{"$f":"IF(H192=1,COUNTIF($H$3:H192,1),\"\")","v":""},{"$f":"IFERROR(INDEX($A$3:$A$103,MATCH(ROWS($I$3:I192),$I$3:$I$100,0)),\"\")","v":""}]
[null,null,null,null,null,null,null,null,{"$f":"IF(H193=1,COUNTIF($H$3:H193,1),\"\")","v":""},{"$f":"IFERROR(INDEX($A$3:$A$103,MATCH(ROWS($I$3:I193),$I$3:$I$100,0)),\"\")","v":""}]
[null,null,null,null,null,null,null,null,{"$f":"IF(H194=1,COUNTIF($H$3:H194,1),\"\")","v":""},{"$f":"IFERROR(INDEX($A$3:$A$103,MATCH(ROWS($I$3:I194),$I$3:$I$100,0)),\"\")","v":""}]
[null,null,null,null,null,null,null,null,{"$f":"IF(H195=1,COUNTIF($H$3:H195,1),\"\")","v":""},{"$f":"IFERROR(INDEX($A$3:$A$103,MATCH(ROWS($I$3:I195),$I$3:$I$100,0)),\"\")","v":""}]
[null,null,null,null,null,null,null,null,{"$f":"IF(H196=1,COUNTIF($H$3:H196,1),\"\")","v":""},{"$f":"IFERROR(INDEX($A$3:$A$103,MATCH(ROWS($I$3:I196),$I$3:$I$100,0)),\"\")","v":""}]
[null,null,null,null,null,null,null,null,{"$f":"IF(H197=1,COUNTIF($H$3:H197,1),\"\")","v":""},{"$f":"IFERROR(INDEX($A$3:$A$103,MATCH(ROWS($I$3:I197),$I$3:$I$100,0)),\"\")","v":""}]
[null,null,null,null,null,null,null,null,{"$f":"IF(H198=1,COUNTIF($H$3:H198,1),\"\")","v":""},{"$f":"IFERROR(INDEX($A$3:$A$103,MATCH(ROWS($I$3:I198),$I$3:$I$100,0)),\"\")","v":""}]
[null,null,null,null,null,null,null,null,{"$f":"IF(H199=1,COUNTIF($H$3:H199,1),\"\")","v":""},{"$f":"IFERROR(INDEX($A$3:$A$103,MATCH(ROWS($I$3:I199),$I$3:$I$100,0)),\"\")","v":""}]
[null,null,null,null,null,null,null,null,{"$f":"IF(H200=1,COUNTIF($H$3:H200,1),\"\")","v":""},{"$f":"IFERROR(INDEX($A$3:$A$103,MATCH(ROWS($I$3:I200),$I$3:$I$100,0)),\"\")","v":""}]
[null,null,null,null,null,null,null,null,{"$f":"IF(H201=1,COUNTIF($H$3:H201,1),\"\")","v":""},{"$f":"IFERROR(INDEX($A$3:$A$103,MATCH(ROWS($I$3:I201),$I$3:$I$100,0)),\"\")","v":""}]
[null,null,null,null,null,null,null,null,{"$f":"IF(H202=1,COUNTIF($H$3:H202,1),\"\")","v":""},{"$f":"IFERROR(INDEX($A$3:$A$103,MATCH(ROWS($I$3:I202),$I$3:$I$100,0)),\"\")","v":""}]
[null,null,null,null,null,null,null,null,{"$f":"IF(H203=1,COUNTIF($H$3:H203,1),\"\")","v":""},{"$f":"IFERROR(INDEX($A$3:$A$103,MATCH(ROWS($I$3:I203),$I$3:$I$100,0)),\"\")","v":""}]
[null,null,null,null,null,null,null,null,{"$f":"IF(H204=1,COUNTIF($H$3:H204,1),\"\")","v":""},{"$f":"IFERROR(INDEX($A$3:$A$103,MATCH(ROWS($I$3:I204),$I$3:$I$100,0)),\"\")","v":""}]
[null,null,null,null,null,null,null,null,{"$f":"IF(H205=1,COUNTIF($H$3:H205,1),\"\")","v":""},{"$f":"IFERROR(INDEX($A$3:$A$103,MATCH(ROWS($I$3:I205),$I$3:$I$100,0)),\"\")","v":""}]
[null,null,null,null,null,null,null,null,{"$f":"IF(H206=1,COUNTIF($H$3:H206,1),\"\")","v":""},{"$f":"IFERROR(INDEX($A$3:$A$103,MATCH(ROWS($I$3:I206),$I$3:$I$100,0)),\"\")","v":""}]
[null,null,null,null,null,null,null,null,{"$f":"IF(H207=1,COUNTIF($H$3:H207,1),\"\")","v":""},{"$f":"IFERROR(INDEX($A$3:$A$103,MATCH(ROWS($I$3:I207),$I$3:$I$100,0)),\"\")","v":""}]
[null,null,null,null,null,null,null,null,{"$f":"IF(H208=1,COUNTIF($H$3:H208,1),\"\")","v":""},{"$f":"IFERROR(INDEX($A$3:$A$103,MATCH(ROWS($I$3:I208),$I$3:$I$100,0)),\"\")","v":""}]
[null,null,null,null,null,null,null,null,{"$f":"IF(H209=1,COUNTIF($H$3:H209,1),\"\")","v":""},{"$f":"IFERROR(INDEX($A$3:$A$103,MATCH(ROWS($I$3:I209),$I$3:$I$100,0)),\"\")","v":""}]
[null,null,null,null,null,null,null,null,{"$f":"IF(H210=1,COUNTIF($H$3:H210,1),\"\")","v":""},{"$f":"IFERROR(INDEX($A$3:$A$103,MATCH(ROWS($I$3:I210),$I$3:$I$100,0)),\"\")","v":""}]
[null,null,null,null,null,null,null,null,{"$f":"IF(H211=1,COUNTIF($H$3:H211,1),\"\")","v":""},{"$f":"IFERROR(INDEX($A$3:$A$103,MATCH(ROWS($I$3:I211),$I$3:$I$100,0)),\"\")","v":""}]
[null,null,null,null,null,null,null,null,{"$f":"IF(H212=1,COUNTIF($H$3:H212,1),\"\")","v":""},{"$f":"IFERROR(INDEX($A$3:$A$103,MATCH(ROWS($I$3:I212),$I$3:$I$100,0)),\"\")","v":""}]
[null,null,null,null,null,null,null,null,{"$f":"IF(H213=1,COUNTIF($H$3:H213,1),\"\")","v":""},{"$f":"IFERROR(INDEX($A$3:$A$103,MATCH(ROWS($I$3:I213),$I$3:$I$100,0)),\"\")","v":""}]
[null,null,null,null,null,null,null,null,{"$f":"IF(H214=1,COUNTIF($H$3:H214,1),\"\")","v":""},{"$f":"IFERROR(INDEX($A$3:$A$103,MATCH(ROWS($I$3:I214),$I$3:$I$100,0)),\"\")","v":""}]
[null,null,null,null,null,null,null,null,{"$f":"IF(H215=1,COUNTIF($H$3:H215,1),\"\")","v":""},{"$f":"IFERROR(INDEX($A$3:$A$103,MATCH(ROWS($I$3:I215),$I$3:$I$100,0)),\"\")","v":""}]
[null,null,null,null,null,null,null,null,{"$f":"IF(H216=1,COUNTIF($H$3:H216,1),\"\")","v":""},{"$f":"IFERROR(INDEX($A$3:$A$103,MATCH(ROWS($I$3:I216),$I$3:$I$100,0)),\"\")","v":""}]
[null,null,null,null,null,null,null,null,{"$f":"IF(H217=1,COUNTIF($H$3:H217,1),\"\")","v":""},{"$f":"IFERROR(INDEX($A$3:$A$103,MATCH(ROWS($I$3:I217),$I$3:$I$100,0)),\"\")","v":""}]
[null,null,null,null,null,null,null,null,{"$f":"IF(H218=1,COUNTIF($H$3:H218,1),\"\")","v":""},{"$f":"IFERROR(INDEX($A$3:$A$103,MATCH(ROWS($I$3:I218),$I$3:$I$100,0)),\"\")","v":""}]
[null,null,null,null,null,null,null,null,{"$f":"IF(H219=1,COUNTIF($H$3:H219,1),\"\")","v":""},{"$f":"IFERROR(INDEX($A$3:$A$103,MATCH(ROWS($I$3:I219),$I$3:$I$100,0)),\"\")","v":""}]
[null,null,null,null,null,null,null,null,{"$f":"IF(H220=1,COUNTIF($H$3:H220,1),\"\")","v":""},{"$f":"IFERROR(INDEX($A$3:$A$103,MATCH(ROWS($I$3:I220),$I$3:$I$100,0)),\"\")","v":""}]
[null,null,null,null,null,null,null,null,{"$f":"IF(H221=1,COUNTIF($H$3:H221,1),\"\")","v":""},{"$f":"IFERROR(INDEX($A$3:$A$103,MATCH(ROWS($I$3:I221),$I$3:$I$100,0)),\"\")","v":""}]
[null,null,null,null,null,null,null,null,{"$f":"IF(H222=1,COUNTIF($H$3:H222,1),\"\")","v":""},{"$f":"IFERROR(INDEX($A$3:$A$103,MATCH(ROWS($I$3:I222),$I$3:$I$100,0)),\"\")","v":""}]
[null,null,null,null,null,null,null,null,{"$f":"IF(H223=1,COUNTIF($H$3:H223,1),\"\")","v":""},{"$f":"IFERROR(INDEX($A$3:$A$103,MATCH(ROWS($I$3:I223),$I$3:$I$100,0)),\"\")","v":""}]
[null,null,null,null,null,null,null,null,{"$f":"IF(H224=1,COUNTIF($H$3:H224,1),\"\")","v":""},{"$f":"IFERROR(INDEX($A$3:$A$103,MATCH(ROWS($I$3:I224),$I$3:$I$100,0)),\"\")","v":""}]
[null,null,null,null,null,null,null,null,{"$f":"IF(H225=1,COUNTIF($H$3:H225,1),\"\")","v":""},{"$f":"IFERROR(INDEX($A$3:$A$103,MATCH(ROWS($I$3:I225),$I$3:$I$100,0)),\"\")","v":""}]
[null,null,null,null,null,null,null,null,{"$f":"IF(H226=1,COUNTIF($H$3:H226,1),\"\")","v":""},{"$f":"IFERROR(INDEX($A$3:$A$103,MATCH(ROWS($I$3:I226),$I$3:$I$100,0)),\"\")","v":""}]
[null,null,null,null,null,null,null,null,{"$f":"IF(H227=1,COUNTIF($H$3:H227,1),\"\")","v":""},{"$f":"IFERROR(INDEX($A$3:$A$103,MATCH(ROWS($I$3:I227),$I$3:$I$100,0)),\"\")","v":""}]
[null,null,null,null,null,null,null,null,{"$f":"IF(H228=1,COUNTIF($H$3:H228,1),\"\")","v":""},{"$f":"IFERROR(INDEX($A$3:$A$103,MATCH(ROWS($I$3:I228),$I$3:$I$100,0)),\"\")","v":""}]
[null,null,null,null,null,null,null,null,{"$f":"IF(H229=1,COUNTIF($H$3:H229,1),\"\")","v":""},{"$f":"IFERROR(INDEX($A$3:$A$103,MATCH(ROWS($I$3:I229),$I$3:$I$100,0)),\"\")","v":""}]
[null,null,null,null,null,null,null,null,{"$f":"IF(H230=1,COUNTIF($H$3:H230,1),\"\")","v":""},{"$f":"IFERROR(INDEX($A$3:$A$103,MATCH(ROWS($I$3:I230),$I$3:$I$100,0)),\"\")","v":""}]
[null,null,null,null,null,null,null,null,{"$f":"IF(H231=1,COUNTIF($H$3:H231,1),\"\")","v":""},{"$f":"IFERROR(INDEX($A$3:$A$103,MATCH(ROWS($I$3:I231),$I$3:$I$100,0)),\"\")","v":""}]
[null,null,null,null,null,null,null,null,{"$f":"IF(H232=1,COUNTIF($H$3:H232,1),\"\")","v":""},{"$f":"IFERROR(INDEX($A$3:$A$103,MATCH(ROWS($I$3:I232),$I$3:$I$100,0)),\"\")","v":""}]
[null,null,null,null,null,null,null,null,{"$f":"IF(H233=1,COUNTIF($H$3:H233,1),\"\")","v":""},{"$f":"IFERROR(INDEX($A$3:$A$103,MATCH(ROWS($I$3:I233),$I$3:$I$100,0)),\"\")","v":""}]
[null,null,null,null,null,null,null,null,{"$f":"IF(H234=1,COUNTIF($H$3:H234,1),\"\")","v":""},{"$f":"IFERROR(INDEX($A$3:$A$103,MATCH(ROWS($I$3:I234),$I$3:$I$100,0)),\"\")","v":""}]
[null,null,null,null,null,null,null,null,{"$f":"IF(H235=1,COUNTIF($H$3:H235,1),\"\")","v":""},{"$f":"IFERROR(INDEX($A$3:$A$103,MATCH(ROWS($I$3:I235),$I$3:$I$100,0)),\"\")","v":""}]
[null,null,null,null,null,null,null,null,{"$f":"IF(H236=1,COUNTIF($H$3:H236,1),\"\")","v":""},{"$f":"IFERROR(INDEX($A$3:$A$103,MATCH(ROWS($I$3:I236),$I$3:$I$100,0)),\"\")","v":""}]
[null,null,null,null,null,null,null,null,{"$f":"IF(H237=1,COUNTIF($H$3:H237,1),\"\")","v":""},{"$f":"IFERROR(INDEX($A$3:$A$103,MATCH(ROWS($I$3:I237),$I$3:$I$100,0)),\"\")","v":""}]
[null,null,null,null,null,null,null,null,{"$f":"IF(H238=1,COUNTIF($H$3:H238,1),\"\")","v":""},{"$f":"IFERROR(INDEX($A$3:$A$103,MATCH(ROWS($I$3:I238),$I$3:$I$100,0)),\"\")","v":""}]
[null,null,null,null,null,null,null,null,{"$f":"IF(H239=1,COUNTIF($H$3:H239,1),\"\")","v":""},{"$f":"IFERROR(INDEX($A$3:$A$103,MATCH(ROWS($I$3:I239),$I$3:$I$100,0)),\"\")","v":""}]
[null,null,null,null,null,null,null,null,{"$f":"IF(H240=1,COUNTIF($H$3:H240,1),\"\")","v":""},{"$f":"IFERROR(INDEX($A$3:$A$103,MATCH(ROWS($I$3:I240),$I$3:$I$100,0)),\"\")","v":""}]
[null,null,null,null,null,null,null,null,{"$f":"IF(H241=1,COUNTIF($H$3:H241,1),\"\")","v":""},{"$f":"IFERROR(INDEX($A$3:$A$103,MATCH(ROWS($I$3:I241),$I$3:$I$100,0)),\"\")","v":""}]
[null,null,null,null,null,null,null,null,{"$f":"IF(H242=1,COUNTIF($H$3:H242,1),\"\")","v":""},{"$f":"IFERROR(INDEX($A$3:$A$103,MATCH(ROWS($I$3:I242),$I$3:$I$100,0)),\"\")","v":""}]
[null,null,null,null,null,null,null,null,{"$f":"IF(H243=1,COUNTIF($H$3:H243,1),\"\")","v":""},{"$f":"IFERROR(INDEX($A$3:$A$103,MATCH(ROWS($I$3:I243),$I$3:$I$100,0)),\"\")","v":""}]
[null,null,null,null,null,null,null,null,{"$f":"IF(H244=1,COUNTIF($H$3:H244,1),\"\")","v":""},{"$f":"IFERROR(INDEX($A$3:$A$103,MATCH(ROWS($I$3:I244),$I$3:$I$100,0)),\"\")","v":""}]
[null,null,null,null,null,null,null,null,{"$f":"IF(H245=1,COUNTIF($H$3:H245,1),\"\")","v":""},{"$f":"IFERROR(INDEX($A$3:$A$103,MATCH(ROWS($I$3:I245),$I$3:$I$100,0)),\"\")","v":""}]
[null,null,null,null,null,null,null,null,{"$f":"IF(H246=1,COUNTIF($H$3:H246,1),\"\")","v":""},{"$f":"IFERROR(INDEX($A$3:$A$103,MATCH(ROWS($I$3:I246),$I$3:$I$100,0)),\"\")","v":""}]
[null,null,null,null,null,null,null,null,{"$f":"IF(H247=1,COUNTIF($H$3:H247,1),\"\")","v":""},{"$f":"IFERROR(INDEX($A$3:$A$103,MATCH(ROWS($I$3:I247),$I$3:$I$100,0)),\"\")","v":""}]
[null,null,null,null,null,null,null,null,{"$f":"IF(H248=1,COUNTIF($H$3:H248,1),\"\")","v":""},{"$f":"IFERROR(INDEX($A$3:$A$103,MATCH(ROWS($I$3:I248),$I$3:$I$100,0)),\"\")","v":""}]
[null,null,null,null,null,null,null,null,{"$f":"IF(H249=1,COUNTIF($H$3:H249,1),\"\")","v":""},{"$f":"IFERROR(INDEX($A$3:$A$103,MATCH(ROWS($I$3:I249),$I$3:$I$100,0)),\"\")","v":""}]
[null,null,null,null,null,null,null,null,{"$f":"IF(H250=1,COUNTIF($H$3:H250,1),\"\")","v":""},{"$f":"IFERROR(INDEX($A$3:$A$103,MATCH(ROWS($I$3:I250),$I$3:$I$100,0)),\"\")","v":""}]
[null,null,null,null,null,null,null,null,{"$f":"IF(H251=1,COUNTIF($H$3:H251,1),\"\")","v":""},{"$f":"IFERROR(INDEX($A$3:$A$103,MATCH(ROWS($I$3:I251),$I$3:$I$100,0)),\"\")","v":""}]
[null,null,null,null,null,null,null,null,{"$f":"IF(H252=1,COUNTIF($H$3:H252,1),\"\")","v":""},{"$f":"IFERROR(INDEX($A$3:$A$103,MATCH(ROWS($I$3:I252),$I$3:$I$100,0)),\"\")","v":""}]
[null,null,null,null,null,null,null,null,{"$f":"IF(H253=1,COUNTIF($H$3:H253,1),\"\")","v":""},{"$f":"IFERROR(INDEX($A$3:$A$103,MATCH(ROWS($I$3:I253),$I$3:$I$100,0)),\"\")","v":""}]
[null,null,null,null,null,null,null,null,{"$f":"IF(H254=1,COUNTIF($H$3:H254,1),\"\")","v":""},{"$f":"IFERROR(INDEX($A$3:$A$103,MATCH(ROWS($I$3:I254),$I$3:$I$100,0)),\"\")","v":""}]
[null,null,null,null,null,null,null,null,{"$f":"IF(H255=1,COUNTIF($H$3:H255,1),\"\")","v":""},{"$f":"IFERROR(INDEX($A$3:$A$103,MATCH(ROWS($I$3:I255),$I$3:$I$100,0)),\"\")","v":""}]
[null,null,null,null,null,null,null,null,{"$f":"IF(H256=1,COUNTIF($H$3:H256,1),\"\")","v":""},{"$f":"IFERROR(INDEX($A$3:$A$103,MATCH(ROWS($I$3:I256),$I$3:$I$100,0)),\"\")","v":""}]
[null,null,null,null,null,null,null,null,{"$f":"IF(H257=1,COUNTIF($H$3:H257,1),\"\")","v":""},{"$f":"IFERROR(INDEX($A$3:$A$103,MATCH(ROWS($I$3:I257),$I$3:$I$100,0)),\"\")","v":""}]
[null,null,null,null,null,null,null,null,{"$f":"IF(H258=1,COUNTIF($H$3:H258,1),\"\")","v":""},{"$f":"IFERROR(INDEX($A$3:$A$103,MATCH(ROWS($I$3:I258),$I$3:$I$100,0)),\"\")","v":""}]
[null,null,null,null,null,null,null,null,{"$f":"IF(H259=1,COUNTIF($H$3:H259,1),\"\")","v":""},{"$f":"IFERROR(INDEX($A$3:$A$103,MATCH(ROWS($I$3:I259),$I$3:$I$100,0)),\"\")","v":""}]
[null,null,null,null,null,null,null,null,{"$f":"IF(H260=1,COUNTIF($H$3:H260,1),\"\")","v":""},{"$f":"IFERROR(INDEX($A$3:$A$103,MATCH(ROWS($I$3:I260),$I$3:$I$100,0)),\"\")","v":""}]
[null,null,null,null,null,null,null,null,{"$f":"IF(H261=1,COUNTIF($H$3:H261,1),\"\")","v":""},{"$f":"IFERROR(INDEX($A$3:$A$103,MATCH(ROWS($I$3:I261),$I$3:$I$100,0)),\"\")","v":""}]
[null,null,null,null,null,null,null,null,{"$f":"IF(H262=1,COUNTIF($H$3:H262,1),\"\")","v":""},{"$f":"IFERROR(INDEX($A$3:$A$103,MATCH(ROWS($I$3:I262),$I$3:$I$100,0)),\"\")","v":""}]
[null,null,null,null,null,null,null,null,{"$f":"IF(H263=1,COUNTIF($H$3:H263,1),\"\")","v":""},{"$f":"IFERROR(INDEX($A$3:$A$103,MATCH(ROWS($I$3:I263),$I$3:$I$100,0)),\"\")","v":""}]
[null,null,null,null,null,null,null,null,{"$f":"IF(H264=1,COUNTIF($H$3:H264,1),\"\")","v":""},{"$f":"IFERROR(INDEX($A$3:$A$103,MATCH(ROWS($I$3:I264),$I$3:$I$100,0)),\"\")","v":""}]
[null,null,null,null,null,null,null,null,{"$f":"IF(H265=1,COUNTIF($H$3:H265,1),\"\")","v":""},{"$f":"IFERROR(INDEX($A$3:$A$103,MATCH(ROWS($I$3:I265),$I$3:$I$100,0)),\"\")","v":""}]
[null,null,null,null,null,null,null,null,{"$f":"IF(H266=1,COUNTIF($H$3:H266,1),\"\")","v":""},{"$f":"IFERROR(INDEX($A$3:$A$103,MATCH(ROWS($I$3:I266),$I$3:$I$100,0)),\"\")","v":""}]
[null,null,null,null,null,null,null,null,{"$f":"IF(H267=1,COUNTIF($H$3:H267,1),\"\")","v":""},{"$f":"IFERROR(INDEX($A$3:$A$103,MATCH(ROWS($I$3:I267),$I$3:$I$100,0)),\"\")","v":""}]
[null,null,null,null,null,null,null,null,{"$f":"IF(H268=1,COUNTIF($H$3:H268,1),\"\")","v":""},{"$f":"IFERROR(INDEX($A$3:$A$103,MATCH(ROWS($I$3:I268),$I$3:$I$100,0)),\"\")","v":""}]
[null,null,null,null,null,null,null,null,{"$f":"IF(H269=1,COUNTIF($H$3:H269,1),\"\")","v":""},{"$f":"IFERROR(INDEX($A$3:$A$103,MATCH(ROWS($I$3:I269),$I$3:$I$100,0)),\"\")","v":""}]
[null,null,null,null,null,null,null,null,{"$f":"IF(H270=1,COUNTIF($H$3:H270,1),\"\")","v":""},{"$f":"IFERROR(INDEX($A$3:$A$103,MATCH(ROWS($I$3:I270),$I$3:$I$100,0)),\"\")","v":""}]
[null,null,null,null,null,null,null,null,{"$f":"IF(H271=1,COUNTIF($H$3:H271,1),\"\")","v":""},{"$f":"IFERROR(INDEX($A$3:$A$103,MATCH(ROWS($I$3:I271),$I$3:$I$100,0)),\"\")","v":""}]
[null,null,null,null,null,null,null,null,{"$f":"IF(H272=1,COUNTIF($H$3:H272,1),\"\")","v":""},{"$f":"IFERROR(INDEX($A$3:$A$103,MATCH(ROWS($I$3:I272),$I$3:$I$100,0)),\"\")","v":""}]
[null,null,null,null,null,null,null,null,{"$f":"IF(H273=1,COUNTIF($H$3:H273,1),\"\")","v":""},{"$f":"IFERROR(INDEX($A$3:$A$103,MATCH(ROWS($I$3:I273),$I$3:$I$100,0)),\"\")","v":""}]
[null,null,null,null,null,null,null,null,{"$f":"IF(H274=1,COUNTIF($H$3:H274,1),\"\")","v":""},{"$f":"IFERROR(INDEX($A$3:$A$103,MATCH(ROWS($I$3:I274),$I$3:$I$100,0)),\"\")","v":""}]
[null,null,null,null,null,null,null,null,{"$f":"IF(H275=1,COUNTIF($H$3:H275,1),\"\")","v":""},{"$f":"IFERROR(INDEX($A$3:$A$103,MATCH(ROWS($I$3:I275),$I$3:$I$100,0)),\"\")","v":""}]
[null,null,null,null,null,null,null,null,{"$f":"IF(H276=1,COUNTIF($H$3:H276,1),\"\")","v":""},{"$f":"IFERROR(INDEX($A$3:$A$103,MATCH(ROWS($I$3:I276),$I$3:$I$100,0)),\"\")","v":""}]
[null,null,null,null,null,null,null,null,{"$f":"IF(H277=1,COUNTIF($H$3:H277,1),\"\")","v":""},{"$f":"IFERROR(INDEX($A$3:$A$103,MATCH(ROWS($I$3:I277),$I$3:$I$100,0)),\"\")","v":""}]
[null,null,null,null,null,null,null,null,{"$f":"IF(H278=1,COUNTIF($H$3:H278,1),\"\")","v":""},{"$f":"IFERROR(INDEX($A$3:$A$103,MATCH(ROWS($I$3:I278),$I$3:$I$100,0)),\"\")","v":""}]
[null,null,null,null,null,null,null,null,{"$f":"IF(H279=1,COUNTIF($H$3:H279,1),\"\")","v":""},{"$f":"IFERROR(INDEX($A$3:$A$103,MATCH(ROWS($I$3:I279),$I$3:$I$100,0)),\"\")","v":""}]
[null,null,null,null,null,null,null,null,{"$f":"IF(H280=1,COUNTIF($H$3:H280,1),\"\")","v":""},{"$f":"IFERROR(INDEX($A$3:$A$103,MATCH(ROWS($I$3:I280),$I$3:$I$100,0)),\"\")","v":""}]
[null,null,null,null,null,null,null,null,{"$f":"IF(H281=1,COUNTIF($H$3:H281,1),\"\")","v":""},{"$f":"IFERROR(INDEX($A$3:$A$103,MATCH(ROWS($I$3:I281),$I$3:$I$100,0)),\"\")","v":""}]
[null,null,null,null,null,null,null,null,{"$f":"IF(H282=1,COUNTIF($H$3:H282,1),\"\")","v":""},{"$f":"IFERROR(INDEX($A$3:$A$103,MATCH(ROWS($I$3:I282),$I$3:$I$100,0)),\"\")","v":""}]
[null,null,null,null,null,null,null,null,{"$f":"IF(H283=1,COUNTIF($H$3:H283,1),\"\")","v":""},{"$f":"IFERROR(INDEX($A$3:$A$103,MATCH(ROWS($I$3:I283),$I$3:$I$100,0)),\"\")","v":""}]
[null,null,null,null,null,null,null,null,{"$f":"IF(H284=1,COUNTIF($H$3:H284,1),\"\")","v":""},{"$f":"IFERROR(INDEX($A$3:$A$103,MATCH(ROWS($I$3:I284),$I$3:$I$100,0)),\"\")","v":""}]
[null,null,null,null,null,null,null,null,{"$f":"IF(H285=1,COUNTIF($H$3:H285,1),\"\")","v":""},{"$f":"IFERROR(INDEX($A$3:$A$103,MATCH(ROWS($I$3:I285),$I$3:$I$100,0)),\"\")","v":""}]
[null,null,null,null,null,null,null,null,{"$f":"IF(H286=1,COUNTIF($H$3:H286,1),\"\")","v":""},{"$f":"IFERROR(INDEX($A$3:$A$103,MATCH(ROWS($I$3:I286),$I$3:$I$100,0)),\"\")","v":""}]
[null,null,null,null,null,null,null,null,{"$f":"IF(H287=1,COUNTIF($H$3:H287,1),\"\")","v":""},{"$f":"IFERROR(INDEX($A$3:$A$103,MATCH(ROWS($I$3:I287),$I$3:$I$100,0)),\"\")","v":""}]
[null,null,null,null,null,null,null,null,{"$f":"IF(H288=1,COUNTIF($H$3:H288,1),\"\")","v":""},{"$f":"IFERROR(INDEX($A$3:$A$103,MATCH(ROWS($I$3:I288),$I$3:$I$100,0)),\"\")","v":""}]
[null,null,null,null,null,null,null,null,{"$f":"IF(H289=1,COUNTIF($H$3:H289,1),\"\")","v":""},{"$f":"IFERROR(INDEX($A$3:$A$103,MATCH(ROWS($I$3:I289),$I$3:$I$100,0)),\"\")","v":""}]
[null,null,null,null,null,null,null,null,{"$f":"IF(H290=1,COUNTIF($H$3:H290,1),\"\")","v":""},{"$f":"IFERROR(INDEX($A$3:$A$103,MATCH(ROWS($I$3:I290),$I$3:$I$100,0)),\"\")","v":""}]
[null,null,null,null,null,null,null,null,{"$f":"IF(H291=1,COUNTIF($H$3:H291,1),\"\")","v":""},{"$f":"IFERROR(INDEX($A$3:$A$103,MATCH(ROWS($I$3:I291),$I$3:$I$100,0)),\"\")","v":""}]
[null,null,null,null,null,null,null,null,{"$f":"IF(H292=1,COUNTIF($H$3:H292,1),\"\")","v":""},{"$f":"IFERROR(INDEX($A$3:$A$103,MATCH(ROWS($I$3:I292),$I$3:$I$100,0)),\"\")","v":""}]
[null,null,null,null,null,null,null,null,{"$f":"IF(H293=1,COUNTIF($H$3:H293,1),\"\")","v":""},{"$f":"IFERROR(INDEX($A$3:$A$103,MATCH(ROWS($I$3:I293),$I$3:$I$100,0)),\"\")","v":""}]
[null,null,null,null,null,null,null,null,{"$f":"IF(H294=1,COUNTIF($H$3:H294,1),\"\")","v":""},{"$f":"IFERROR(INDEX($A$3:$A$103,MATCH(ROWS($I$3:I294),$I$3:$I$100,0)),\"\")","v":""}]
[null,null,null,null,null,null,null,null,{"$f":"IF(H295=1,COUNTIF($H$3:H295,1),\"\")","v":""},{"$f":"IFERROR(INDEX($A$3:$A$103,MATCH(ROWS($I$3:I295),$I$3:$I$100,0)),\"\")","v":""}]
[null,null,null,null,null,null,null,null,{"$f":"IF(H296=1,COUNTIF($H$3:H296,1),\"\")","v":""},{"$f":"IFERROR(INDEX($A$3:$A$103,MATCH(ROWS($I$3:I296),$I$3:$I$100,0)),\"\")","v":""}]
[null,null,null,null,null,null,null,null,{"$f":"IF(H297=1,COUNTIF($H$3:H297,1),\"\")","v":""},{"$f":"IFERROR(INDEX($A$3:$A$103,MATCH(ROWS($I$3:I297),$I$3:$I$100,0)),\"\")","v":""}]
[null,null,null,null,null,null,null,null,{"$f":"IF(H298=1,COUNTIF($H$3:H298,1),\"\")","v":""},{"$f":"IFERROR(INDEX($A$3:$A$103,MATCH(ROWS($I$3:I298),$I$3:$I$100,0)),\"\")","v":""}]
[null,null,null,null,null,null,null,null,{"$f":"IF(H299=1,COUNTIF($H$3:H299,1),\"\")","v":""},{"$f":"IFERROR(INDEX($A$3:$A$103,MATCH(ROWS($I$3:I299),$I$3:$I$100,0)),\"\")","v":""}]
[null,null,null,null,null,null,null,null,{"$f":"IF(H300=1,COUNTIF($H$3:H300,1),\"\")","v":""},{"$f":"IFERROR(INDEX($A$3:$A$103,MATCH(ROWS($I$3:I300),$I$3:$I$100,0)),\"\")","v":""}]

{"sheet":"Ohje","index":4,"n_rows":47,"n_cols":3,"rows_kept":47,"cut":false,"hidden":false,"merged":[]}
["Ohjeet"]
["Ladatessasi laskupohjaa käyttöösi, tallenna se koneellesi. "]
["Laskupohja toimii näin varmemmin kuin selaimessa."]
["Alla olevien kysymysten kaltaisiin varoituksiin tulee vastata myöntävästi, jotta pohja toimii oikein."]
[]
[]
[]
[]
[]
[]
[]
[]
[]
[]
[]
[]
[]
["Tuoteluettelo"]
["Täytä tuoteluettelo-välilehdelle tiedot tuotteistasi oikeisiin sarakkeisiin niille varatuille paikoille "]
["(tällä hetkellä max. tuotemäärä voi olla 100):"]
[]
["Tuotenimi","Tuotehinta","á-hinta"]
[]
["Täyttäessäsi laskupohjaa:"]
[]
["1. Täytä oman yrityksesi tiedot laskupohjan yläosaan. "]
["Pohja kannattaa tallentaa omilla tiedoilla varustettuna, "]
["jolloin niitä ei tarvitse joka kerta erikseen lisätä."]
[]
["2. Täytä laskutustiedot: päivämäärä, laskun numero, viitenumero, asiakasnumero, "]
["viivästyskorko, eräpäivä jne. "]
[]
["3. Tässä vaiheessa laskupohja kannattaa tallentaa itselle, jolloin pysyvät tiedot ovat siinä valmiina."]
[]
["4. Täytä asiakkaan tiedot laskupohjaan."]
[]
["Laskun luominen:"]
["1. Kaksoisklikkaa tuotenimi -saraketta hiiren vasemmalla painikkeella. "]
["Kirjoita tuotenimi tai valitse se valikosta."]
["-> tuotenumero ja á hinta tulevat automaattisesti tuoteluettelosta."]
[]
["2. Lisää kappalemäärä sille kuuluvaan sarakkeeseen."]
[]
["2. Valitse käyttämäsi alv-prosentti sille varattuun sarakkeeseen valikosta napsauttamalla."]
[]
["Laskupohja laskee puolestasi verottoman ja verollisen hinnan, "]
["arvonlisäveron antamallasi prosentilla sekä yhteissumman."]